BEGIN:VCALENDAR
VERSION:2.0
PRODID:-//Britten-Pears Foundation - ECPv4.6.19//NONSGML v1.0//EN
CALSCALE:GREGORIAN
METHOD:PUBLISH
X-WR-CALNAME:Britten-Pears Foundation
X-ORIGINAL-URL:https://brittenpears.org
X-WR-CALDESC:Events for Britten-Pears Foundation
BEGIN:VEVENT
DTSTART;TZID=UTC+0:20180626T140000
DTEND;TZID=UTC+0:20181028T144000
DTSTAMP:20180627T153728
CREATED:20180607T134948Z
LAST-MODIFIED:20180625T105006Z
UID:6377-1530021600-1540737600@brittenpears.org
SUMMARY:Red House Tours
DESCRIPTION:Daily at 2pm \nAn informative guided tour given by our dedicated volunteers will offer the opportunity to explore both floors of Britten and Pears’ home. You will see original interiors and personal effects sitting alongside stunning artworks collected by the pair throughout their lives. Approx. 40 minutes. \nTickets: £2.50 (in addition to admission charge of £5.50) \nPlease note there will be no tours during the Aldeburgh Festival (8-24 June) \n
URL:https://brittenpears.org/event/red-house-tours-2/
LOCATION:Golf Lane\, Aldeburgh\, Suffolk\, IP15 5PZ
CATEGORIES:Guided tour
ATTACH;FMTTYPE=image/jpeg:https://brittenpears.org/wp-content/uploads/2017/12/Red-House-Tours-©-Britten-Pears-Foundation.jpg
END:VEVENT
BEGIN:VEVENT
DTSTART;TZID=UTC+0:20180626T153000
DTEND;TZID=UTC+0:20190212T154000
DTSTAMP:20180627T153729
CREATED:20180607T134957Z
LAST-MODIFIED:20180619T162255Z
UID:6395-1530027000-1549986000@brittenpears.org
SUMMARY:Stories from the Archive
DESCRIPTION:Every Tuesday at 3.30pm (plus Thursdays in the school summer holidays) \nEvery week a member of our team will give a short talk on an item from the Britten-Pears Foundation collection. Follow the signs to find the talk in the Gallery\, Garden\, Archive\, or one of the heritage rooms. \n
URL:https://brittenpears.org/event/stories-from-the-archive/
LOCATION:Golf Lane\, Aldeburgh\, Suffolk\, IP15 5PZ
CATEGORIES:Talk
ATTACH;FMTTYPE=image/jpeg:https://brittenpears.org/wp-content/uploads/2018/06/10-Minutes-with-an-Object-every-Tuesday-at-3.30pm.jpg
END:VEVENT
BEGIN:VEVENT
DTSTART;TZID=UTC+0:20180629T153000
DTEND;TZID=UTC+0:20180629T161500
DTSTAMP:20180627T153729
CREATED:20180607T134916Z
LAST-MODIFIED:20180612T153840Z
UID:6325-1530286200-1530288900@brittenpears.org
SUMMARY:Art Talk
DESCRIPTION:Discover Britten and Pears’ extensive and eclectic art collection. Delivered by our knowledgeable volunteers\, this presentation will include a general overview of the art collection as well as more in depth focus on particular highlights. \nTickets: £5 \n
URL:https://brittenpears.org/event/art-talk/
LOCATION:Golf Lane\, Aldeburgh\, Suffolk\, IP15 5PZ
CATEGORIES:Art,Talk
ATTACH;FMTTYPE=image/jpeg:https://brittenpears.org/wp-content/uploads/2018/06/Art-Talk-Britten-Pears-Foundation-2.jpg
END:VEVENT
BEGIN:VEVENT
DTSTART;TZID=UTC+0:20180706T100000
DTEND;TZID=UTC+0:20180706T113000
DTSTAMP:20180627T153729
CREATED:20180607T134935Z
LAST-MODIFIED:20180626T095652Z
UID:6355-1530871200-1530876600@brittenpears.org
SUMMARY:Mini Music Makers – July
DESCRIPTION:Join us on Friday mornings for a fun play and music session for 0-5 year olds. These sessions\, which include singing and creative play\, are great for the little ones to learn social skills\, turn taking\, sharing and following instructions. \nTickets: FREE \nBooking is recommended due to limited availability. Call the booking line for more information and to book your place. \n
URL:https://brittenpears.org/event/mini-music-makers-july/
LOCATION:Golf Lane\, Aldeburgh\, Suffolk\, IP15 5PZ
CATEGORIES:Family
ATTACH;FMTTYPE=image/jpeg:https://brittenpears.org/wp-content/uploads/2018/06/Mini-Music-Makers-2018-1.jpeg
END:VEVENT
BEGIN:VEVENT
DTSTART;TZID=UTC+0:20180713T100000
DTEND;TZID=UTC+0:20180713T113000
DTSTAMP:20180627T153729
CREATED:20180607T134935Z
LAST-MODIFIED:20180612T160041Z
UID:6356-1531476000-1531481400@brittenpears.org
SUMMARY:Mini Music Makers – July
DESCRIPTION:Join us on Friday mornings for a fun play and music session for 0-5 year olds. These sessions\, which include singing and creative play\, are great for the little ones to learn social skills\, turn taking\, sharing and following instructions. \nTickets: FREE \nBooking is recommended due to limited availability. Call the booking line for more information and to book your place. \n
URL:https://brittenpears.org/event/mini-music-makers-july-2/
LOCATION:Golf Lane\, Aldeburgh\, Suffolk\, IP15 5PZ
CATEGORIES:Family
ATTACH;FMTTYPE=image/jpeg:https://brittenpears.org/wp-content/uploads/2018/06/Mini-Music-Makers-2018-1.jpeg
END:VEVENT
BEGIN:VEVENT
DTSTART;TZID=UTC+0:20180713T153000
DTEND;TZID=UTC+0:20180713T161500
DTSTAMP:20180627T153729
CREATED:20180607T134917Z
LAST-MODIFIED:20180619T140512Z
UID:6326-1531495800-1531498500@brittenpears.org
SUMMARY:Art Talk
DESCRIPTION:Discover Britten and Pears’ extensive and eclectic art collection. Delivered by our knowledgeable volunteers\, this presentation will include a general overview of the art collection as well as more in depth focus on particular highlights. \nTickets: £5 \n
URL:https://brittenpears.org/event/art-talk-2/
LOCATION:Golf Lane\, Aldeburgh\, Suffolk\, IP15 5PZ
CATEGORIES:Art,Talk
ATTACH;FMTTYPE=image/jpeg:https://brittenpears.org/wp-content/uploads/2018/06/Art-Talk-Britten-Pears-Foundation-2.jpg
END:VEVENT
BEGIN:VEVENT
DTSTART;TZID=UTC+0:20180720T100000
DTEND;TZID=UTC+0:20180720T113000
DTSTAMP:20180627T153729
CREATED:20180607T134936Z
LAST-MODIFIED:20180612T160121Z
UID:6357-1532080800-1532086200@brittenpears.org
SUMMARY:Mini Music Makers – July
DESCRIPTION:Join us on Friday mornings for a fun play and music session for 0-5 year olds. These sessions\, which include singing and creative play\, are great for the little ones to learn social skills\, turn taking\, sharing and following instructions. \nTickets: FREE \nBooking is recommended due to limited availability. Call the booking line for more information and to book your place. \n
URL:https://brittenpears.org/event/mini-music-makers-july-3/
LOCATION:Golf Lane\, Aldeburgh\, Suffolk\, IP15 5PZ
CATEGORIES:Family
ATTACH;FMTTYPE=image/jpeg:https://brittenpears.org/wp-content/uploads/2018/06/Mini-Music-Makers-2018-1.jpeg
END:VEVENT
BEGIN:VEVENT
DTSTART;TZID=UTC+0:20180727T100000
DTEND;TZID=UTC+0:20180727T113000
DTSTAMP:20180627T153729
CREATED:20180607T134936Z
LAST-MODIFIED:20180612T160805Z
UID:6358-1532685600-1532691000@brittenpears.org
SUMMARY:Mini Music Makers – July
DESCRIPTION:Join us on Friday mornings for a fun play and music session for 0-5 year olds. These sessions\, which include singing and creative play\, are great for the little ones to learn social skills\, turn taking\, sharing and following instructions. \nTickets: FREE \nBooking is recommended due to limited availability. Call the booking line for more information and to book your place. \n
URL:https://brittenpears.org/event/mini-music-makers-july-4/
LOCATION:Golf Lane\, Aldeburgh\, Suffolk\, IP15 5PZ
CATEGORIES:Family
ATTACH;FMTTYPE=image/jpeg:https://brittenpears.org/wp-content/uploads/2018/06/Mini-Music-Makers-2018-1.jpeg
END:VEVENT
BEGIN:VEVENT
DTSTART;TZID=UTC+0:20180727T153000
DTEND;TZID=UTC+0:20180727T161500
DTSTAMP:20180627T153729
CREATED:20180607T134921Z
LAST-MODIFIED:20180612T154412Z
UID:6327-1532705400-1532708100@brittenpears.org
SUMMARY:Art Talk
DESCRIPTION:Discover Britten and Pears’ extensive and eclectic art collection. Delivered by our knowledgeable volunteers\, this presentation will include a general overview of the art collection as well as more in depth focus on particular highlights. \nTickets: £5 \n
URL:https://brittenpears.org/event/art-talk-3/
LOCATION:Golf Lane\, Aldeburgh\, Suffolk\, IP15 5PZ
CATEGORIES:Art,Talk
ATTACH;FMTTYPE=image/jpeg:https://brittenpears.org/wp-content/uploads/2018/06/Art-Talk-Britten-Pears-Foundation-2.jpg
END:VEVENT
BEGIN:VEVENT
DTSTART;TZID=UTC+0:20180727T170000
DTEND;TZID=UTC+0:20180727T180000
DTSTAMP:20180627T153729
CREATED:20180607T134927Z
LAST-MODIFIED:20180612T155302Z
UID:6340-1532710800-1532714400@brittenpears.org
SUMMARY:Britten and America: Recital 1
DESCRIPTION:A series of recitals linked to the themes of our exhibitions: America and artists as emigrants. The first in the series\, this recital will feature Erika Mädi Jones (soprano) and Panaretos Kyriatzidis (piano). \nTickets: £12.50\nSeries offer: book all recitals for £35. Click here to book. \n
URL:https://brittenpears.org/event/britten-and-america-recital-1/
LOCATION:Golf Lane\, Aldeburgh\, Suffolk\, IP15 5PZ
CATEGORIES:Exhibition event,Recital
ATTACH;FMTTYPE=image/jpeg:https://brittenpears.org/wp-content/uploads/2018/06/Britten-and-America-Recital-1.jpg
END:VEVENT
BEGIN:VEVENT
DTSTART;TZID=UTC+0:20180728T130000
DTEND;TZID=UTC+0:20180902T170000
DTSTAMP:20180627T153729
CREATED:20180607T134930Z
LAST-MODIFIED:20180612T154704Z
UID:6345-1532782800-1535907600@brittenpears.org
SUMMARY:Summer travels for families!
DESCRIPTION:In addition to garden activities in summer there will be special games trails and creative fun every Tuesday\, Thursday and Saturday for children. We will run an exciting selection of craft and musical activities each week. Pick up your ‘Britten Passport’ and see how many activity stamps you can gather over the summer holidays! \nTickets: sessions included in admission charge\, children under 16 free \n  \n
URL:https://brittenpears.org/event/summer-travels-for-families/
LOCATION:Golf Lane\, Aldeburgh\, Suffolk\, IP15 5PZ
CATEGORIES:Family,Garden event
ATTACH;FMTTYPE=image/jpeg:https://brittenpears.org/wp-content/uploads/2018/04/Summer-travels-for-families-Britten-Pears-Foundation.jpg
END:VEVENT
BEGIN:VEVENT
DTSTART;TZID=UTC+0:20180803T100000
DTEND;TZID=UTC+0:20180803T113000
DTSTAMP:20180627T153729
CREATED:20180607T134924Z
LAST-MODIFIED:20180612T160904Z
UID:6332-1533290400-1533295800@brittenpears.org
SUMMARY:Mini Music Makers – August
DESCRIPTION:Join us on Friday mornings for a fun play and music session for 0-5 year olds. These sessions\, which include singing and creative play\, are great for the little ones to learn social skills\, turn taking\, sharing and following instructions. \nTickets: FREE \nBooking is recommended due to limited availability. Call the booking line for more information and to book your place. \n
URL:https://brittenpears.org/event/mini-music-makers-august/
LOCATION:Golf Lane\, Aldeburgh\, Suffolk\, IP15 5PZ
CATEGORIES:Family
ATTACH;FMTTYPE=image/jpeg:https://brittenpears.org/wp-content/uploads/2018/06/Mini-Music-Makers-2018-1.jpeg
END:VEVENT
BEGIN:VEVENT
DTSTART;TZID=UTC+0:20180809T170000
DTEND;TZID=UTC+0:20180809T190000
DTSTAMP:20180627T153729
CREATED:20180607T134929Z
LAST-MODIFIED:20180612T155426Z
UID:6342-1533834000-1533841200@brittenpears.org
SUMMARY:As You Like It
DESCRIPTION:Thursday 9 August\, 5-7pm \nThe critically-acclaimed Pantaloons present their innovative and hilarious open-air version of Shakespeare’s timeless comedy. Suitable for families\, bring a picnic and something to sit on. Parking is limited on site\, please see website for further information. \nTickets: £13.50 adults\, £8 children \nParking: There is space for approx. 30 cars onsite. There will be a coach service with stops at Aldeburgh Church and Fort Green car parks. Timings for the coach to and from the site will be online nearer the time. Check back to this page for updates. \n
URL:https://brittenpears.org/event/as-you-like-it/
LOCATION:Golf Lane\, Aldeburgh\, Suffolk\, IP15 5PZ
CATEGORIES:Family,Garden event,Theatre
ATTACH;FMTTYPE=image/jpeg:https://brittenpears.org/wp-content/uploads/2018/04/As-You-Like-It-Pantaloons.jpg
END:VEVENT
BEGIN:VEVENT
DTSTART;TZID=UTC+0:20180810T100000
DTEND;TZID=UTC+0:20180810T113000
DTSTAMP:20180627T153729
CREATED:20180607T134924Z
LAST-MODIFIED:20180612T160930Z
UID:6333-1533895200-1533900600@brittenpears.org
SUMMARY:Mini Music Makers – August
DESCRIPTION:Join us on Friday mornings for a fun play and music session for 0-5 year olds. These sessions\, which include singing and creative play\, are great for the little ones to learn social skills\, turn taking\, sharing and following instructions. \nTickets: FREE \nBooking is recommended due to limited availability. Call the booking line for more information and to book your place. \n
URL:https://brittenpears.org/event/mini-music-makers-august-2/
LOCATION:Golf Lane\, Aldeburgh\, Suffolk\, IP15 5PZ
CATEGORIES:Family
ATTACH;FMTTYPE=image/jpeg:https://brittenpears.org/wp-content/uploads/2018/06/Mini-Music-Makers-2018-1.jpeg
END:VEVENT
BEGIN:VEVENT
DTSTART;TZID=UTC+0:20180810T153000
DTEND;TZID=UTC+0:20180810T161500
DTSTAMP:20180627T153729
CREATED:20180607T134921Z
LAST-MODIFIED:20180612T154458Z
UID:6328-1533915000-1533917700@brittenpears.org
SUMMARY:Art Talk
DESCRIPTION:Discover Britten and Pears’ extensive and eclectic art collection. Delivered by our knowledgeable volunteers\, this presentation will include a general overview of the art collection as well as more in depth focus on particular highlights. \nTickets: £5 \n
URL:https://brittenpears.org/event/art-talk-4/
LOCATION:Golf Lane\, Aldeburgh\, Suffolk\, IP15 5PZ
CATEGORIES:Art,Talk
ATTACH;FMTTYPE=image/jpeg:https://brittenpears.org/wp-content/uploads/2018/06/Art-Talk-Britten-Pears-Foundation-2.jpg
END:VEVENT
BEGIN:VEVENT
DTSTART;TZID=UTC+0:20180810T170000
DTEND;TZID=UTC+0:20180810T180000
DTSTAMP:20180627T153729
CREATED:20180607T134916Z
LAST-MODIFIED:20180612T155329Z
UID:6323-1533920400-1533924000@brittenpears.org
SUMMARY:Britten and America: Recital 2
DESCRIPTION:A series of recitals linked to the themes of our exhibitions: America and artists as emigrants. This concert will feature Ben Vonberg-Clark (tenor) and Edward Picton-Turbervill (piano). \nTickets: £12.50\nSeries offer: book all recitals for £35. Click here to book. \n
URL:https://brittenpears.org/event/britten-and-america-recital-2/
LOCATION:Golf Lane\, Aldeburgh\, Suffolk\, IP15 5PZ
CATEGORIES:Exhibition event,Recital
ATTACH;FMTTYPE=image/jpeg:https://brittenpears.org/wp-content/uploads/2018/06/Britten-and-America-Recital-2.jpg
END:VEVENT
BEGIN:VEVENT
DTSTART;TZID=UTC+0:20180817T100000
DTEND;TZID=UTC+0:20180817T113000
DTSTAMP:20180627T153729
CREATED:20180607T134924Z
LAST-MODIFIED:20180612T161008Z
UID:6334-1534500000-1534505400@brittenpears.org
SUMMARY:Mini Music Makers – August
DESCRIPTION:Join us on Friday mornings for a fun play and music session for 0-5 year olds. These sessions\, which include singing and creative play\, are great for the little ones to learn social skills\, turn taking\, sharing and following instructions. \nTickets: FREE \nBooking is recommended due to limited availability. Call the booking line for more information and to book your place. \n
URL:https://brittenpears.org/event/mini-music-makers-august-3/
LOCATION:Golf Lane\, Aldeburgh\, Suffolk\, IP15 5PZ
CATEGORIES:Family
ATTACH;FMTTYPE=image/jpeg:https://brittenpears.org/wp-content/uploads/2018/06/Mini-Music-Makers-2018-1.jpeg
END:VEVENT
BEGIN:VEVENT
DTSTART;TZID=UTC+0:20180824T100000
DTEND;TZID=UTC+0:20180824T113000
DTSTAMP:20180627T153729
CREATED:20180607T134924Z
LAST-MODIFIED:20180612T161058Z
UID:6335-1535104800-1535110200@brittenpears.org
SUMMARY:Mini Music Makers – August
DESCRIPTION:Join us on Friday mornings for a fun play and music session for 0-5 year olds. These sessions\, which include singing and creative play\, are great for the little ones to learn social skills\, turn taking\, sharing and following instructions. \nTickets: FREE \nBooking is recommended due to limited availability. Call the booking line for more information and to book your place. \n
URL:https://brittenpears.org/event/mini-music-makers-august-4/
LOCATION:Golf Lane\, Aldeburgh\, Suffolk\, IP15 5PZ
CATEGORIES:Family
ATTACH;FMTTYPE=image/jpeg:https://brittenpears.org/wp-content/uploads/2018/06/Mini-Music-Makers-2018-1.jpeg
END:VEVENT
BEGIN:VEVENT
DTSTART;TZID=UTC+0:20180824T153000
DTEND;TZID=UTC+0:20180824T161500
DTSTAMP:20180627T153729
CREATED:20180607T134922Z
LAST-MODIFIED:20180612T154528Z
UID:6329-1535124600-1535127300@brittenpears.org
SUMMARY:Art Talk
DESCRIPTION:Discover Britten and Pears’ extensive and eclectic art collection. Delivered by our knowledgeable volunteers\, this presentation will include a general overview of the art collection as well as more in depth focus on particular highlights. \nTickets: £5 \n
URL:https://brittenpears.org/event/art-talk-5/
LOCATION:Golf Lane\, Aldeburgh\, Suffolk\, IP15 5PZ
CATEGORIES:Art,Talk
ATTACH;FMTTYPE=image/jpeg:https://brittenpears.org/wp-content/uploads/2018/06/Art-Talk-Britten-Pears-Foundation-2.jpg
END:VEVENT
BEGIN:VEVENT
DTSTART;TZID=UTC+0:20180824T170000
DTEND;TZID=UTC+0:20180824T180000
DTSTAMP:20180627T153729
CREATED:20180607T134915Z
LAST-MODIFIED:20180612T155230Z
UID:6322-1535130000-1535133600@brittenpears.org
SUMMARY:Britten and America: Recital 3
DESCRIPTION:A series of recitals linked to the themes of our exhibitions: America and artists as emigrants. This recital will also mark Bernstein’s Birthday concert with performers Lisa Cassidy (soprano) and Somi Kim (piano). Includes themed dinner at the East Coast Café. Please indicate reservation when booking. \nTickets: £12.50\nSeries offer: book all recitals for £35. Click here to book. \n
URL:https://brittenpears.org/event/britten-and-america-recital-3/
LOCATION:Golf Lane\, Aldeburgh\, Suffolk\, IP15 5PZ
CATEGORIES:Recital
ATTACH;FMTTYPE=image/jpeg:https://brittenpears.org/wp-content/uploads/2018/06/Britten-and-America-Recital-3.jpg
END:VEVENT
BEGIN:VEVENT
DTSTART;TZID=UTC+0:20180831T100000
DTEND;TZID=UTC+0:20180831T113000
DTSTAMP:20180627T153729
CREATED:20180607T134925Z
LAST-MODIFIED:20180612T161128Z
UID:6336-1535709600-1535715000@brittenpears.org
SUMMARY:Mini Music Makers – August
DESCRIPTION:Join us on Friday mornings for a fun play and music session for 0-5 year olds. These sessions\, which include singing and creative play\, are great for the little ones to learn social skills\, turn taking\, sharing and following instructions. \nTickets: FREE \nBooking is recommended due to limited availability. Call the booking line for more information and to book your place. \n
URL:https://brittenpears.org/event/mini-music-makers-august-5/
LOCATION:Golf Lane\, Aldeburgh\, Suffolk\, IP15 5PZ
CATEGORIES:Family
ATTACH;FMTTYPE=image/jpeg:https://brittenpears.org/wp-content/uploads/2018/06/Mini-Music-Makers-2018-1.jpeg
END:VEVENT
BEGIN:VEVENT
DTSTART;TZID=UTC+0:20180907T153000
DTEND;TZID=UTC+0:20180907T161500
DTSTAMP:20180627T153729
CREATED:20180607T134922Z
LAST-MODIFIED:20180612T154615Z
UID:6330-1536334200-1536336900@brittenpears.org
SUMMARY:Art Talk
DESCRIPTION:Discover Britten and Pears’ extensive and eclectic art collection. Delivered by our knowledgeable volunteers\, this presentation will include a general overview of the art collection as well as more in depth focus on particular highlights. \nTickets: £5 \n
URL:https://brittenpears.org/event/art-talk-6/
LOCATION:Golf Lane\, Aldeburgh\, Suffolk\, IP15 5PZ
CATEGORIES:Art,Talk
ATTACH;FMTTYPE=image/jpeg:https://brittenpears.org/wp-content/uploads/2018/06/Art-Talk-Britten-Pears-Foundation-2.jpg
END:VEVENT
BEGIN:VEVENT
DTSTART;TZID=UTC+0:20180908T130000
DTEND;TZID=UTC+0:20180908T170000
DTSTAMP:20180627T153729
CREATED:20180607T134926Z
LAST-MODIFIED:20180612T161301Z
UID:6337-1536411600-1536426000@brittenpears.org
SUMMARY:Heritage open days
DESCRIPTION:Explore the site for free on this nationwide event. Special events and activities will take place throughout the afternoon. Further details will be available nearer the time. \nTickets: FREE \nDue to space\, some activities will be ticketed on a first-come\, first-served basis on both days. \n
URL:https://brittenpears.org/event/heritage-open-days/
LOCATION:Golf Lane\, Aldeburgh\, Suffolk\, IP15 5PZ
CATEGORIES:Special event
ATTACH;FMTTYPE=image/jpeg:https://brittenpears.org/wp-content/uploads/2018/06/Heritage_Open_Day-3.jpg
END:VEVENT
BEGIN:VEVENT
DTSTART;TZID=UTC+0:20180909T130000
DTEND;TZID=UTC+0:20180909T170000
DTSTAMP:20180627T153729
CREATED:20180607T134927Z
LAST-MODIFIED:20180612T161328Z
UID:6338-1536498000-1536512400@brittenpears.org
SUMMARY:Heritage open days
DESCRIPTION:Explore the site for free on this nationwide event. Special events and activities will take place throughout the afternoon. Further details will be available nearer the time. \nTickets: FREE \nDue to space\, some activities will be ticketed on a first-come\, first-served basis on both days. \n
URL:https://brittenpears.org/event/heritage-open-days-2/
LOCATION:Golf Lane\, Aldeburgh\, Suffolk\, IP15 5PZ
CATEGORIES:Special event
ATTACH;FMTTYPE=image/jpeg:https://brittenpears.org/wp-content/uploads/2018/06/Heritage_Open_Day-3.jpg
END:VEVENT
BEGIN:VEVENT
DTSTART;TZID=UTC+0:20180914T100000
DTEND;TZID=UTC+0:20180914T113000
DTSTAMP:20180627T153729
CREATED:20180607T134932Z
LAST-MODIFIED:20180612T161158Z
UID:6348-1536919200-1536924600@brittenpears.org
SUMMARY:Mini Music Makers – September
DESCRIPTION:Join us on Friday mornings for a fun play and music session for 0-5 year olds. These sessions\, which include singing and creative play\, are great for the little ones to learn social skills\, turn taking\, sharing and following instructions. \nTickets: FREE \nBooking is recommended due to limited availability. Call the booking line for more information and to book your place. \n
URL:https://brittenpears.org/event/mini-music-makers-september/
LOCATION:Golf Lane\, Aldeburgh\, Suffolk\, IP15 5PZ
CATEGORIES:Family
ATTACH;FMTTYPE=image/jpeg:https://brittenpears.org/wp-content/uploads/2018/06/Mini-Music-Makers-2018-1.jpeg
END:VEVENT
BEGIN:VEVENT
DTSTART;TZID=UTC+0:20180926T110000
DTEND;TZID=UTC+0:20180926T123000
DTSTAMP:20180627T153729
CREATED:20180607T134922Z
LAST-MODIFIED:20180612T155816Z
UID:6331-1537959600-1537965000@brittenpears.org
SUMMARY:Discovery Session: Seven Sonnets of Michelangelo
DESCRIPTION:Britten and Pears began their trip to the USA in 1939 as friends\, but became romantically involved within a few weeks of arriving. From then on\, Pears’ voice became the principle source of inspiration for Britten. Seven Sonnets of Michelangelo (1940)\, with its ardent\, highly romantic texts\, is the first song cycle composed for Pears and is a remarkable declaration of love as well as a tribute to Pears’ growing artistry. With Lucy Walker \nTickets: £5 \n
URL:https://brittenpears.org/event/discovery-session-seven-sonnets-of-michelangelo/
LOCATION:Golf Lane\, Aldeburgh\, Suffolk\, IP15 5PZ
CATEGORIES:Discovery session,Exhibition event
ATTACH;FMTTYPE=image/jpeg:https://brittenpears.org/wp-content/uploads/2018/04/Discovery-Session-Seven-Sonnets-of-Michelangelo-Britten-Pears-Foundation.jpg
END:VEVENT
BEGIN:VEVENT
DTSTART;TZID=UTC+0:20180928T100000
DTEND;TZID=UTC+0:20180928T113000
DTSTAMP:20180627T153729
CREATED:20180607T134932Z
LAST-MODIFIED:20180612T161221Z
UID:6349-1538128800-1538134200@brittenpears.org
SUMMARY:Mini Music Makers – September
DESCRIPTION:Join us on Friday mornings for a fun play and music session for 0-5 year olds. These sessions\, which include singing and creative play\, are great for the little ones to learn social skills\, turn taking\, sharing and following instructions. \nTickets: FREE \nBooking is recommended due to limited availability. Call the booking line for more information and to book your place. \n
URL:https://brittenpears.org/event/mini-music-makers-september-2/
LOCATION:Golf Lane\, Aldeburgh\, Suffolk\, IP15 5PZ
CATEGORIES:Family
ATTACH;FMTTYPE=image/jpeg:https://brittenpears.org/wp-content/uploads/2018/06/Mini-Music-Makers-2018-1.jpeg
END:VEVENT
BEGIN:VEVENT
DTSTART;TZID=UTC+0:20181005T110000
DTEND;TZID=UTC+0:20181005T160000
DTSTAMP:20180627T153729
CREATED:20180607T134951Z
LAST-MODIFIED:20180612T155555Z
UID:6382-1538737200-1538755200@brittenpears.org
SUMMARY:Scratch Choir: Living in America
DESCRIPTION:The third Scratch Choir session of the year will focus on works by Britten and Igor Stravinsky – both of whom lived in America. Led by conductor Ben Vonberg-Clark\, it will be a fun-filled day of learning a series of works which will be performed in Britten’s Library. The ability to read music is recommended and please bring a pencil and packed lunch. \nTickets: £7.50 \n
URL:https://brittenpears.org/event/scratch-choir-living-in-america/
LOCATION:Golf Lane\, Aldeburgh\, Suffolk\, IP15 5PZ
CATEGORIES:Come and sing
ATTACH;FMTTYPE=image/jpeg:https://brittenpears.org/wp-content/uploads/2018/06/Scratch-Choir-2018.jpg
END:VEVENT
BEGIN:VEVENT
DTSTART;TZID=UTC+0:20181207T110000
DTEND;TZID=UTC+0:20181207T160000
DTSTAMP:20180627T153729
CREATED:20180607T134957Z
LAST-MODIFIED:20180612T155640Z
UID:6396-1544180400-1544198400@brittenpears.org
SUMMARY:Scratch Choir: A Ceremony of Carols
DESCRIPTION:The final Scratch Choir of the year will be of Britten’s festive A Ceremony of Carols. Led by conductor Ben Vonberg-Clark\, it will be a fun-filled day of learning followed by a performance in Britten’s Library accompanied by harp. The ability to read music is recommended and please bring a pencil and packed lunch. \nTickets: £7.50 \n
URL:https://brittenpears.org/event/scratch-choir-a-ceremony-of-carols/
LOCATION:Golf Lane\, Aldeburgh\, Suffolk\, IP15 5PZ
CATEGORIES:Come and sing
ATTACH;FMTTYPE=image/jpeg:https://brittenpears.org/wp-content/uploads/2018/06/Scratch-Choir-2018.jpg
END:VEVENT
END:VCALENDAR